BEGIN:VCALENDAR
VERSION:2.0
PRODID:-//Klimawerkstatt - ECPv6.15.18//NONSGML v1.0//EN
CALSCALE:GREGORIAN
METHOD:PUBLISH
X-ORIGINAL-URL:https://klimawerkstatt-andernach.de
X-WR-CALDESC:Veranstaltungen für Klimawerkstatt
REFRESH-INTERVAL;VALUE=DURATION:PT1H
X-Robots-Tag:noindex
X-PUBLISHED-TTL:PT1H
BEGIN:VTIMEZONE
TZID:Europe/Paris
BEGIN:DAYLIGHT
TZOFFSETFROM:+0100
TZOFFSETTO:+0200
TZNAME:CEST
DTSTART:20240331T010000
END:DAYLIGHT
BEGIN:STANDARD
TZOFFSETFROM:+0200
TZOFFSETTO:+0100
TZNAME:CET
DTSTART:20241027T010000
END:STANDARD
BEGIN:DAYLIGHT
TZOFFSETFROM:+0100
TZOFFSETTO:+0200
TZNAME:CEST
DTSTART:20250330T010000
END:DAYLIGHT
BEGIN:STANDARD
TZOFFSETFROM:+0200
TZOFFSETTO:+0100
TZNAME:CET
DTSTART:20251026T010000
END:STANDARD
BEGIN:DAYLIGHT
TZOFFSETFROM:+0100
TZOFFSETTO:+0200
TZNAME:CEST
DTSTART:20260329T010000
END:DAYLIGHT
BEGIN:STANDARD
TZOFFSETFROM:+0200
TZOFFSETTO:+0100
TZNAME:CET
DTSTART:20261025T010000
END:STANDARD
END:VTIMEZONE
BEGIN:VEVENT
DTSTART;TZID=Europe/Paris:20251027T104500
DTEND;TZID=Europe/Paris:20251027T124500
DTSTAMP:20260425T014018
CREATED:20251027T123047Z
LAST-MODIFIED:20251027T123047Z
UID:2006-1761561900-1761569100@klimawerkstatt-andernach.de
SUMMARY:Orte der Nachhaltigkeit
DESCRIPTION:Datum\, Zeit: Donnerstag\, 29.01.2026\, 10:45 – 12:45 Uhr \nAnbieter/in: Norbert Dümpelfeld\, BUND \nAchtung! Kleinere Klassen bevorzugt. \nBeschreibung:\nWir gehen auf eine Entdeckungsreise und suchen nach Spuren nachhaltigen Lebens in Andernach. Wir wollen gemeinsam erkunden\, was sich hinter dem Begriff Nachhaltigkeit verbirgt. Auf unserem Rundgang treffen wir auf ungewöhnliche Beispiele und Ideen für nachhaltiges Leben im Alltag. Wir lernen Menschen kennen\, die uns von ihren Ideen und Erfahrungen berichten. Wir werden sehen\, dass es oftmals die kleinen Schritte sind\, die uns einem großen Ziel näherbringen und dass jeder und jede einzelne Person einen Beitrag leisten kann hin zu einer faireren und gerechteren Welt. \nGeeignet für: Klassenstufe 1 bis 4
URL:https://klimawerkstatt-andernach.de/event/orte262/
LOCATION:Historisches Rathaus\, Hochstr 52-54\, Andernach\, 56626
CATEGORIES:GS-Zukunftswoche 2026
END:VEVENT
END:VCALENDAR