BEGIN:VCALENDAR
VERSION:2.0
PRODID:-//Klimawerkstatt - ECPv6.15.18//NONSGML v1.0//EN
CALSCALE:GREGORIAN
METHOD:PUBLISH
X-ORIGINAL-URL:https://klimawerkstatt-andernach.de
X-WR-CALDESC:Veranstaltungen für Klimawerkstatt
REFRESH-INTERVAL;VALUE=DURATION:PT1H
X-Robots-Tag:noindex
X-PUBLISHED-TTL:PT1H
BEGIN:VTIMEZONE
TZID:Europe/Paris
BEGIN:DAYLIGHT
TZOFFSETFROM:+0100
TZOFFSETTO:+0200
TZNAME:CEST
DTSTART:20250330T010000
END:DAYLIGHT
BEGIN:STANDARD
TZOFFSETFROM:+0200
TZOFFSETTO:+0100
TZNAME:CET
DTSTART:20251026T010000
END:STANDARD
BEGIN:DAYLIGHT
TZOFFSETFROM:+0100
TZOFFSETTO:+0200
TZNAME:CEST
DTSTART:20260329T010000
END:DAYLIGHT
BEGIN:STANDARD
TZOFFSETFROM:+0200
TZOFFSETTO:+0100
TZNAME:CET
DTSTART:20261025T010000
END:STANDARD
BEGIN:DAYLIGHT
TZOFFSETFROM:+0100
TZOFFSETTO:+0200
TZNAME:CEST
DTSTART:20270328T010000
END:DAYLIGHT
BEGIN:STANDARD
TZOFFSETFROM:+0200
TZOFFSETTO:+0100
TZNAME:CET
DTSTART:20271031T010000
END:STANDARD
END:VTIMEZONE
BEGIN:VEVENT
DTSTART;TZID=Europe/Paris:20260306T170000
DTEND;TZID=Europe/Paris:20260306T190000
DTSTAMP:20260424T203307
CREATED:20260225T213803Z
LAST-MODIFIED:20260225T214019Z
UID:2181-1772816400-1772823600@klimawerkstatt-andernach.de
SUMMARY:Stadtrundgang zu Orten der Nachhaltigkeit
DESCRIPTION:Die Klima-Werkstatt Andernach lädt wieder ein zu einem kostenlosen Stadtrundgang zu Orten der Nachhaltigkeit. Die Veranstaltung findet in Zusammenarbeit mit Andernach.net\, dem BUND und First Friday statt. \nWir gehen auf eine kleine Entdeckungsreise und suchen nach Spuren nachhaltigen Lebens in Andernach. Wir wollen gemeinsam erkunden\, was sich hinter dem Begriff Nachhaltigkeit verbirgt. Auf unserem Rundgang treffen wir auf ungewöhnliche Beispiele und Ideen für nachhaltiges Leben im Alltag. \nWir werden sehen\, dass es oftmals die kleinen Schritte sind\, die uns einem großen Ziel näherbringen und dass jede einzelne Person einen Beitrag leisten kann\, hin zu einer faireren und gerechteren Welt.
URL:https://klimawerkstatt-andernach.de/event/stadtrundgang-zu-orten-der-nachhaltigkeit/
END:VEVENT
END:VCALENDAR