BEGIN:VCALENDAR
VERSION:2.0
PRODID:-//Klimawerkstatt - ECPv6.15.18//NONSGML v1.0//EN
CALSCALE:GREGORIAN
METHOD:PUBLISH
X-WR-CALNAME:Klimawerkstatt
X-ORIGINAL-URL:https://klimawerkstatt-andernach.de
X-WR-CALDESC:Veranstaltungen für Klimawerkstatt
REFRESH-INTERVAL;VALUE=DURATION:PT1H
X-Robots-Tag:noindex
X-PUBLISHED-TTL:PT1H
BEGIN:VTIMEZONE
TZID:Europe/Paris
BEGIN:DAYLIGHT
TZOFFSETFROM:+0100
TZOFFSETTO:+0200
TZNAME:CEST
DTSTART:20240331T010000
END:DAYLIGHT
BEGIN:STANDARD
TZOFFSETFROM:+0200
TZOFFSETTO:+0100
TZNAME:CET
DTSTART:20241027T010000
END:STANDARD
BEGIN:DAYLIGHT
TZOFFSETFROM:+0100
TZOFFSETTO:+0200
TZNAME:CEST
DTSTART:20250330T010000
END:DAYLIGHT
BEGIN:STANDARD
TZOFFSETFROM:+0200
TZOFFSETTO:+0100
TZNAME:CET
DTSTART:20251026T010000
END:STANDARD
BEGIN:DAYLIGHT
TZOFFSETFROM:+0100
TZOFFSETTO:+0200
TZNAME:CEST
DTSTART:20260329T010000
END:DAYLIGHT
BEGIN:STANDARD
TZOFFSETFROM:+0200
TZOFFSETTO:+0100
TZNAME:CET
DTSTART:20261025T010000
END:STANDARD
END:VTIMEZONE
BEGIN:VEVENT
DTSTART;TZID=Europe/Paris:20250814T180000
DTEND;TZID=Europe/Paris:20250814T200000
DTSTAMP:20260425T052243
CREATED:20250715T192008Z
LAST-MODIFIED:20250715T192226Z
UID:1848-1755194400-1755201600@klimawerkstatt-andernach.de
SUMMARY:Treffen der Klima Werkstatt Andernach mit Impulsvortrag
DESCRIPTION:Infos über den Impulsvortrag folgen. \nAlle Interessierten sind herzlich eingeladen an dem öffentlichen Treffen teilzunehmen. Im ersten Abschnitt wird es einen Impulsvortrag rund um das Thema Klima geben. Im zweiten Teil berichten die einzelnen Gruppen über ihre Aktivitäten und wer Interesse an einer aktiven Mitarbeit hat\, wird gerne informiert.
URL:https://klimawerkstatt-andernach.de/event/treffen-der-klima-werkstatt-andernach-mit-impulsvortrag/
LOCATION:Historisches Rathaus\, Hochstr 52-54\, Andernach\, 56626
END:VEVENT
END:VCALENDAR